BEGIN:VCALENDAR
VERSION:2.0
PRODID:-//Jomas Hill Vineyard &amp; Winery - ECPv6.15.20//NONSGML v1.0//EN
CALSCALE:GREGORIAN
METHOD:PUBLISH
X-WR-CALNAME:Jomas Hill Vineyard &amp; Winery
X-ORIGINAL-URL:https://www.jomashillvineyard.com
X-WR-CALDESC:Events for Jomas Hill Vineyard &amp; Winery
REFRESH-INTERVAL;VALUE=DURATION:PT1H
X-Robots-Tag:noindex
X-PUBLISHED-TTL:PT1H
BEGIN:VTIMEZONE
TZID:America/Chicago
BEGIN:DAYLIGHT
TZOFFSETFROM:-0600
TZOFFSETTO:-0500
TZNAME:CDT
DTSTART:20250309T080000
END:DAYLIGHT
BEGIN:STANDARD
TZOFFSETFROM:-0500
TZOFFSETTO:-0600
TZNAME:CST
DTSTART:20251102T070000
END:STANDARD
BEGIN:DAYLIGHT
TZOFFSETFROM:-0600
TZOFFSETTO:-0500
TZNAME:CDT
DTSTART:20260308T080000
END:DAYLIGHT
BEGIN:STANDARD
TZOFFSETFROM:-0500
TZOFFSETTO:-0600
TZNAME:CST
DTSTART:20261101T070000
END:STANDARD
BEGIN:DAYLIGHT
TZOFFSETFROM:-0600
TZOFFSETTO:-0500
TZNAME:CDT
DTSTART:20270314T080000
END:DAYLIGHT
BEGIN:STANDARD
TZOFFSETFROM:-0500
TZOFFSETTO:-0600
TZNAME:CST
DTSTART:20271107T070000
END:STANDARD
END:VTIMEZONE
BEGIN:VEVENT
DTSTART;TZID=America/Chicago:20260802T140000
DTEND;TZID=America/Chicago:20260802T170000
DTSTAMP:20260421T102830
CREATED:20260223T165340Z
LAST-MODIFIED:20260223T165342Z
UID:2284-1785679200-1785690000@www.jomashillvineyard.com
SUMMARY:Live Music with Airborne Attraction
DESCRIPTION:We are looking forward to having Airborne Attraction back at Jomas Hill on August 2nd!A talented group of young musicians playing great covers of great tunes all over MN. Their set includes music from artists like The Beatles\, Bill Withers\, Maroon 5 and timeless hits like “Dancing in the moonlight”\, “Stand by me”\, & “Brown eyed girl”!
URL:https://www.jomashillvineyard.com/event/live-music-with-airborne-attraction-4/
END:VEVENT
BEGIN:VEVENT
DTSTART;TZID=America/Chicago:20260809T140000
DTEND;TZID=America/Chicago:20260809T170000
DTSTAMP:20260421T102830
CREATED:20260223T185356Z
LAST-MODIFIED:20260223T185358Z
UID:2293-1786284000-1786294800@www.jomashillvineyard.com
SUMMARY:Live Music with Traveled Ground
DESCRIPTION:We are excited to have the Father & Son acoustic duo back at Jomas Hill on August 9th!Offering a unique combination of the Americana sound from Folk\, Blues\, Jazz and Roots Rock\, Traveled Ground’s music crosses the spectrum of the Roots Music scene. Hailing out of Waconia Minnesota\, this group has kept a busy schedule playing local\, regional and national stages for over 34 years. Led by multi- instrumentalist Clark Machtemes\, their brand of story driven songs\, sense of song craft and arsenal of instruments have led to national radio play\, commercial jingles and songwriter showcases across the country. Traveled Ground plays as a full band and at times as an acoustic duo and trio. Traveled Ground has released seven full length albums. Their music is available on all major streaming sites and at live shows. They are a group that continues to evolve but yet remain grounded in American Roots Music.
URL:https://www.jomashillvineyard.com/event/live-music-with-traveled-ground-3/
END:VEVENT
BEGIN:VEVENT
DTSTART;TZID=America/Chicago:20260816T140000
DTEND;TZID=America/Chicago:20260816T170000
DTSTAMP:20260421T102830
CREATED:20260409T162005Z
LAST-MODIFIED:20260409T162007Z
UID:2298-1786888800-1786899600@www.jomashillvineyard.com
SUMMARY:Live Music with Matt Jennings
DESCRIPTION:We are excited to have guitarist-songwriter\, Matt Jennings\, bassist\, Dan Carpel and drummer Chresten Hyde at Jomas Hill on August 16th!Matt grew up in Pittsburgh mimicking hard rock guitarists and honing his songwriting skills from an early age. After moving to Minneapolis for college\, he studied abroad in Mexico and later taught English in China. In Mexico\, he was entranced by the sound of mariachi trumpeters and violinists practicing on the streets. And he learned the basic techniques of mariachi guitar firsthand from a man named Nacho. In China\, he played in a live karaoke band and a Chinese hard rock band\, while spending countless hours watching the South China Sea out his apartment window with a $20 Kapok acoustic guitar in his hands. After soaking in how these different cultures use rhythm and melody\, he transformed his hard rock and folk roots into an international style of music that incorporates elements of flamenco\, reggae\, surf\, mariachi\, samba\, bachata\, tango\, jazz\, and metal\, among many other influences. ​
URL:https://www.jomashillvineyard.com/event/live-music-with-matt-jennings-4/
END:VEVENT
BEGIN:VEVENT
DTSTART;TZID=America/Chicago:20260823T140000
DTEND;TZID=America/Chicago:20260823T170000
DTSTAMP:20260421T102830
CREATED:20260320T181804Z
LAST-MODIFIED:20260320T181806Z
UID:2355-1787493600-1787504400@www.jomashillvineyard.com
SUMMARY:Live Music with Steve Michaud
DESCRIPTION:We are excited to have Steve Michaud back at Jomas Hill on August 23rd from 2:00-5:00!Enjoy timeless music with Steve Michaud featuring stripped-down\, soulful renditions of hits from the ’70s through today.Steve’s rich vocals and guitar work create the perfect laid-back vibe for any crowd.
URL:https://www.jomashillvineyard.com/event/live-music-with-steve-michaud-3/
END:VEVENT
BEGIN:VEVENT
DTSTART;TZID=America/Chicago:20260830T140000
DTEND;TZID=America/Chicago:20260830T170000
DTSTAMP:20260421T102830
CREATED:20260223T200216Z
LAST-MODIFIED:20260223T200217Z
UID:2306-1788098400-1788109200@www.jomashillvineyard.com
SUMMARY:Live Music with Andrea Lyn
DESCRIPTION:Andrea Lyn and Mik Thomas are a dynamic acoustic duo\, featuring music spanning generations. From classic rock anthems to the nostalgic 90s\, they are classic\, country\, rock and more. Their original album\, “The Wolves” has been featured on Bob FM\, The Current\, MPR and other stations\, and performances range venues from intimate listening rooms to sprawling amphitheaters. Expect to hear covers from artists like Chris Stapleton\, Train\, GNR\, Willie Nelson\, Adele\, CCR\, and Dolly Parton\, alongside their originals.
URL:https://www.jomashillvineyard.com/event/live-music-with-andrea-lyn-4/
END:VEVENT
END:VCALENDAR