BEGIN:VCALENDAR
VERSION:2.0
PRODID:-//Jomas Hill Vineyard &amp; Winery - ECPv6.15.20//NONSGML v1.0//EN
CALSCALE:GREGORIAN
METHOD:PUBLISH
X-ORIGINAL-URL:https://www.jomashillvineyard.com
X-WR-CALDESC:Events for Jomas Hill Vineyard &amp; Winery
REFRESH-INTERVAL;VALUE=DURATION:PT1H
X-Robots-Tag:noindex
X-PUBLISHED-TTL:PT1H
BEGIN:VTIMEZONE
TZID:America/Chicago
BEGIN:DAYLIGHT
TZOFFSETFROM:-0600
TZOFFSETTO:-0500
TZNAME:CDT
DTSTART:20250309T080000
END:DAYLIGHT
BEGIN:STANDARD
TZOFFSETFROM:-0500
TZOFFSETTO:-0600
TZNAME:CST
DTSTART:20251102T070000
END:STANDARD
BEGIN:DAYLIGHT
TZOFFSETFROM:-0600
TZOFFSETTO:-0500
TZNAME:CDT
DTSTART:20260308T080000
END:DAYLIGHT
BEGIN:STANDARD
TZOFFSETFROM:-0500
TZOFFSETTO:-0600
TZNAME:CST
DTSTART:20261101T070000
END:STANDARD
BEGIN:DAYLIGHT
TZOFFSETFROM:-0600
TZOFFSETTO:-0500
TZNAME:CDT
DTSTART:20270314T080000
END:DAYLIGHT
BEGIN:STANDARD
TZOFFSETFROM:-0500
TZOFFSETTO:-0600
TZNAME:CST
DTSTART:20271107T070000
END:STANDARD
END:VTIMEZONE
BEGIN:VEVENT
DTSTART;TZID=America/Chicago:20260705T140000
DTEND;TZID=America/Chicago:20260705T170000
DTSTAMP:20260421T093040
CREATED:20260320T181249Z
LAST-MODIFIED:20260320T181251Z
UID:2351-1783260000-1783270800@www.jomashillvineyard.com
SUMMARY:Live Music with Andrea Lyn & Mik Thomas
DESCRIPTION:We are excited to have Andrea Lyn and Mik Thomas back at Jomas Hill on July 5th from 2:00-5:00!Andrea Lyn and Mik Thomas are a dynamic acoustic duo\, featuring music spanning generations. From classic rock anthems to the nostalgic 90s\, they are classic\, country\, rock and more. Their original album\, “The Wolves” has been featured on Bob FM\, The Current\, MPR and other stations\, and performances range venues from intimate listening rooms to sprawling amphitheaters. Expect to hear covers from artists like Chris Stapleton\, Train\, GNR\, Willie Nelson\, Adele\, CCR\, and Dolly Parton\, alongside their originals.
URL:https://www.jomashillvineyard.com/event/live-music-with-andrea-lyn-mik-thomas/
END:VEVENT
BEGIN:VEVENT
DTSTART;TZID=America/Chicago:20260712T140000
DTEND;TZID=America/Chicago:20260712T170000
DTSTAMP:20260421T093040
CREATED:20260320T181535Z
LAST-MODIFIED:20260320T181536Z
UID:2353-1783864800-1783875600@www.jomashillvineyard.com
SUMMARY:Live Music with Charlie Roth
DESCRIPTION:We are excited to have Charlie Roth back at Jomas Hill on July 12th from 2:00-5:00! \n\n\n\nCharlie has been singing\, playing guitar & harmonica for over 40 years with a unique blend of Americana\, Folk\, Blues\, Country & Celtic genres.
URL:https://www.jomashillvineyard.com/event/live-music-with-charlie-roth-8/
END:VEVENT
BEGIN:VEVENT
DTSTART;TZID=America/Chicago:20260719T140000
DTEND;TZID=America/Chicago:20260719T170000
DTSTAMP:20260421T093040
CREATED:20260320T180308Z
LAST-MODIFIED:20260320T180310Z
UID:2345-1784469600-1784480400@www.jomashillvineyard.com
SUMMARY:Live Music with Jason Deiter
DESCRIPTION:We are excited to have Jason Deiter back at Jomas Hill on July 19th! Jason is a seasoned performer with over 20 years of experience spanning a diverse range of musical projects. From fronting variety band RIZE and paying tribute to David Bowie with The Band That Fell To Earth to exploring Americana with American Roadhouse and intimate duo performances as Jason & Shane\, Jason brings versatility and passion to every stage. His wide vocal range and distinctive style allow him to put a unique twist on every song\, making him equally at home in lively bars\, large events\, and intimate venues.
URL:https://www.jomashillvineyard.com/event/live-music-with-jason-deiter-4/
END:VEVENT
BEGIN:VEVENT
DTSTART;TZID=America/Chicago:20260726T140000
DTEND;TZID=America/Chicago:20260726T170000
DTSTAMP:20260421T093040
CREATED:20260223T162540Z
LAST-MODIFIED:20260223T162542Z
UID:2274-1785074400-1785085200@www.jomashillvineyard.com
SUMMARY:Live Music with Andy Austin
DESCRIPTION:We are looking forward to having Andy Austin back at Jomas Hill on July 26th from 2:00-5:00!Andy has almost 25 years of experience & can play it all. Some of his favorites to cover include the Gear Daddies\, Johnny Cash\, Matchbox 20\, Neil Young\, Ed Sheeran\, and the Goo Goo Dolls; along with another 100 or so artists.
URL:https://www.jomashillvineyard.com/event/live-music-with-andy-austin-5/
END:VEVENT
END:VCALENDAR