BEGIN:VCALENDAR
VERSION:2.0
PRODID:-//Jomas Hill Vineyard &amp; Winery - ECPv6.15.20//NONSGML v1.0//EN
CALSCALE:GREGORIAN
METHOD:PUBLISH
X-WR-CALNAME:Jomas Hill Vineyard &amp; Winery
X-ORIGINAL-URL:https://www.jomashillvineyard.com
X-WR-CALDESC:Events for Jomas Hill Vineyard &amp; Winery
REFRESH-INTERVAL;VALUE=DURATION:PT1H
X-Robots-Tag:noindex
X-PUBLISHED-TTL:PT1H
BEGIN:VTIMEZONE
TZID:America/Chicago
BEGIN:DAYLIGHT
TZOFFSETFROM:-0600
TZOFFSETTO:-0500
TZNAME:CDT
DTSTART:20250309T080000
END:DAYLIGHT
BEGIN:STANDARD
TZOFFSETFROM:-0500
TZOFFSETTO:-0600
TZNAME:CST
DTSTART:20251102T070000
END:STANDARD
BEGIN:DAYLIGHT
TZOFFSETFROM:-0600
TZOFFSETTO:-0500
TZNAME:CDT
DTSTART:20260308T080000
END:DAYLIGHT
BEGIN:STANDARD
TZOFFSETFROM:-0500
TZOFFSETTO:-0600
TZNAME:CST
DTSTART:20261101T070000
END:STANDARD
BEGIN:DAYLIGHT
TZOFFSETFROM:-0600
TZOFFSETTO:-0500
TZNAME:CDT
DTSTART:20270314T080000
END:DAYLIGHT
BEGIN:STANDARD
TZOFFSETFROM:-0500
TZOFFSETTO:-0600
TZNAME:CST
DTSTART:20271107T070000
END:STANDARD
END:VTIMEZONE
BEGIN:VEVENT
DTSTART;TZID=America/Chicago:20260607T140000
DTEND;TZID=America/Chicago:20260607T170000
DTSTAMP:20260421T065356
CREATED:20260320T175735Z
LAST-MODIFIED:20260320T175737Z
UID:2341-1780840800-1780851600@www.jomashillvineyard.com
SUMMARY:Live Music with Steve Michaud
DESCRIPTION:We are excited to have Steve Michaud back at Jomas Hill on June 7th from 2:00-5:00!Enjoy timeless music with Steve Michaud featuring stripped-down\, soulful renditions of hits from the ’70s through today.Steve’s rich vocals and guitar work create the perfect laid-back vibe for any crowd.
URL:https://www.jomashillvineyard.com/event/live-music-with-steve-michaud-2/
END:VEVENT
BEGIN:VEVENT
DTSTART;TZID=America/Chicago:20260614T140000
DTEND;TZID=America/Chicago:20260614T170000
DTSTAMP:20260421T065356
CREATED:20260223T162905Z
LAST-MODIFIED:20260223T162908Z
UID:2276-1781445600-1781456400@www.jomashillvineyard.com
SUMMARY:Live Music with Josie Sanken
DESCRIPTION:We are excited to have Josie Sanken back at Jomas Hill on June 14th from 2:00-5:00! Josie plays a wide variety of music from old country to new country\, pop\, old rock and contemporary worship!
URL:https://www.jomashillvineyard.com/event/live-music-with-josie-sanken-2/
END:VEVENT
BEGIN:VEVENT
DTSTART;TZID=America/Chicago:20260620T140000
DTEND;TZID=America/Chicago:20260620T170000
DTSTAMP:20260421T065356
CREATED:20260223T165112Z
LAST-MODIFIED:20260223T165114Z
UID:2281-1781964000-1781974800@www.jomashillvineyard.com
SUMMARY:Live Music with Airborne Attraction
DESCRIPTION:We are looking forward to having Airborne Attraction back at Jomas Hill on June 20th!A talented group of young musicians playing great covers of great tunes all over MN. Their set includes music from artists like The Beatles\, Bill Withers\, Maroon 5 and timeless hits like “Dancing in the moonlight”\, “Stand by me”\, & “Brown eyed girl”!
URL:https://www.jomashillvineyard.com/event/live-music-with-airborne-attraction-3/
END:VEVENT
BEGIN:VEVENT
DTSTART;TZID=America/Chicago:20260621T140000
DTEND;TZID=America/Chicago:20260621T170000
DTSTAMP:20260421T065356
CREATED:20260320T180107Z
LAST-MODIFIED:20260320T180109Z
UID:2343-1782050400-1782061200@www.jomashillvineyard.com
SUMMARY:Live Music with Jason Deiter
DESCRIPTION:We are excited to have Jason Deiter back at Jomas Hill on June 21st! Jason is a seasoned performer with over 20 years of experience spanning a diverse range of musical projects. From fronting variety band RIZE and paying tribute to David Bowie with The Band That Fell To Earth to exploring Americana with American Roadhouse and intimate duo performances as Jason & Shane\, Jason brings versatility and passion to every stage. His wide vocal range and distinctive style allow him to put a unique twist on every song\, making him equally at home in lively bars\, large events\, and intimate venues.
URL:https://www.jomashillvineyard.com/event/live-music-with-jason-deiter-3/
END:VEVENT
BEGIN:VEVENT
DTSTART;TZID=America/Chicago:20260628T140000
DTEND;TZID=America/Chicago:20260628T170000
DTSTAMP:20260421T065356
CREATED:20260320T180639Z
LAST-MODIFIED:20260320T180641Z
UID:2347-1782655200-1782666000@www.jomashillvineyard.com
SUMMARY:Live Music with Tim Fast
DESCRIPTION:We are looking forward to having Tim Fast back at Jomas Hill on June 28th from 2:00-5:00!  \n\n\n\nTim brings a unique blend of soulful storytelling and musical craftsmanship to the American folk scene. Drawing inspiration from legends like The Beatles\, John Prine\, Neil Young\, James Taylor\, and Steve Goodman – Tim blends traditional folk roots with contemporary narratives\, creating songs that resonate deeply with listeners of all backgrounds.
URL:https://www.jomashillvineyard.com/event/live-music-with-tim-fast-4/
END:VEVENT
END:VCALENDAR