BEGIN:VCALENDAR
VERSION:2.0
PRODID:-//Jomas Hill Vineyard &amp; Winery - ECPv6.15.20//NONSGML v1.0//EN
CALSCALE:GREGORIAN
METHOD:PUBLISH
X-WR-CALNAME:Jomas Hill Vineyard &amp; Winery
X-ORIGINAL-URL:https://www.jomashillvineyard.com
X-WR-CALDESC:Events for Jomas Hill Vineyard &amp; Winery
REFRESH-INTERVAL;VALUE=DURATION:PT1H
X-Robots-Tag:noindex
X-PUBLISHED-TTL:PT1H
BEGIN:VTIMEZONE
TZID:America/Chicago
BEGIN:DAYLIGHT
TZOFFSETFROM:-0600
TZOFFSETTO:-0500
TZNAME:CDT
DTSTART:20250309T080000
END:DAYLIGHT
BEGIN:STANDARD
TZOFFSETFROM:-0500
TZOFFSETTO:-0600
TZNAME:CST
DTSTART:20251102T070000
END:STANDARD
BEGIN:DAYLIGHT
TZOFFSETFROM:-0600
TZOFFSETTO:-0500
TZNAME:CDT
DTSTART:20260308T080000
END:DAYLIGHT
BEGIN:STANDARD
TZOFFSETFROM:-0500
TZOFFSETTO:-0600
TZNAME:CST
DTSTART:20261101T070000
END:STANDARD
BEGIN:DAYLIGHT
TZOFFSETFROM:-0600
TZOFFSETTO:-0500
TZNAME:CDT
DTSTART:20270314T080000
END:DAYLIGHT
BEGIN:STANDARD
TZOFFSETFROM:-0500
TZOFFSETTO:-0600
TZNAME:CST
DTSTART:20271107T070000
END:STANDARD
END:VTIMEZONE
BEGIN:VEVENT
DTSTART;TZID=America/Chicago:20260509T100000
DTEND;TZID=America/Chicago:20260509T113000
DTSTAMP:20260421T053701
CREATED:20260416T153334Z
LAST-MODIFIED:20260416T153336Z
UID:2385-1778320800-1778326200@www.jomashillvineyard.com
SUMMARY:Mother's Day Weekend Wine & Cheese Pairing
DESCRIPTION:Join us alongside Co-owner & head cheese maker\, Alise Sjostrom of Redhead Creamery\, for a celebration of perfectly paired flavors on May 9th from 10:00-11:30. \n\n\n\nEnjoy a curated sampling of handcrafted farmstead cheeses\, thoughtfully paired with select Jomas Hill wines\, while learning about the art and craft behind both cheese and winemaking. \n\n\n\nWhether you’re toasting Mom\, Grandma\, or just enjoying a well deserved morning out\, this is your excuse to relax and indulge a little.Stick around for lunch and enjoy delicious deals! \n\n\n\n*Buy one pizza get the 2nd pizza 25% off! \n\n\n\n*Buy 1 bottle of wine\, get the 2nd bottle 50% off!
URL:https://www.jomashillvineyard.com/event/mothers-day-weekend-wine-cheese-pairing/
END:VEVENT
BEGIN:VEVENT
DTSTART;TZID=America/Chicago:20260510T140000
DTEND;TZID=America/Chicago:20260510T170000
DTSTAMP:20260421T053701
CREATED:20260223T162231Z
LAST-MODIFIED:20260223T162233Z
UID:2272-1778421600-1778432400@www.jomashillvineyard.com
SUMMARY:Live Music with Andy Austin
DESCRIPTION:We are looking forward to having Andy Austin back at Jomas Hill on Mother’s Day\, May 10th from 2:00-5:00!Andy has almost 25 years of experience & can play it all. Some of his favorites to cover include the Gear Daddies\, Johnny Cash\, Matchbox 20\, Neil Young\, Ed Sheeran\, and the Goo Goo Dolls; along with another 100 or so artists.
URL:https://www.jomashillvineyard.com/event/live-music-with-andy-austin-4/
END:VEVENT
BEGIN:VEVENT
DTSTART;TZID=America/Chicago:20260514T170000
DTEND;TZID=America/Chicago:20260514T200000
DTSTAMP:20260421T053701
CREATED:20260409T163301Z
LAST-MODIFIED:20260409T163303Z
UID:2377-1778778000-1778788800@www.jomashillvineyard.com
SUMMARY:DIY Hat Burning Class with The Paint Factory
DESCRIPTION:Choose from 3 different hat styles and create your own custom hat. Cost of the evening includes your chosen hat style (Mesh Trucker\, Fedora\, or Cowboy) supplies to wood burn your design\, and the choice of adding your own bling at the end with accessories for your hat!  \n\n\n\nArrive early at 5pm to order food and beverage…at 6pm Tara will demonstrate how to wood burn your own hat and then you have until 8pm to complete your project. Various Stencils will be available for you to trace (including floral\, word\, cow\, and other designs for you to choose from…but feel free to bring your own stencil as well…3″ -4″ stencils will work best). Upon completion\, upgrade your hat design by adding accessories for an additional charge. Or feel free to bring your own items you would like to add to your hat!
URL:https://www.jomashillvineyard.com/event/diy-hat-burning-class-with-the-paint-factory/
END:VEVENT
BEGIN:VEVENT
DTSTART;TZID=America/Chicago:20260517T140000
DTEND;TZID=America/Chicago:20260517T170000
DTSTAMP:20260421T053701
CREATED:20260320T174402Z
LAST-MODIFIED:20260320T174403Z
UID:2336-1779026400-1779037200@www.jomashillvineyard.com
SUMMARY:Live Music with Charlie Roth
DESCRIPTION:We are excited to have Charlie Roth back at Jomas Hill on May 17th from 2:00-5:00! \n\n\n\nCharlie has been singing\, playing guitar & harmonica for over 40 years with a unique blend of Americana\, Folk\, Blues\, Country & Celtic genres.
URL:https://www.jomashillvineyard.com/event/live-music-with-charlie-roth-7/
END:VEVENT
BEGIN:VEVENT
DTSTART;TZID=America/Chicago:20260524T140000
DTEND;TZID=America/Chicago:20260524T170000
DTSTAMP:20260421T053701
CREATED:20260223T195407Z
LAST-MODIFIED:20260223T195950Z
UID:2302-1779631200-1779642000@www.jomashillvineyard.com
SUMMARY:Live Music with Andrea Lyn
DESCRIPTION:Andrea Lyn and Mik Thomas are a dynamic acoustic duo\, featuring music spanning generations. From classic rock anthems to the nostalgic 90s\, they are classic\, country\, rock and more. Their original album\, “The Wolves” has been featured on Bob FM\, The Current\, MPR and other stations\, and performances range venues from intimate listening rooms to sprawling amphitheaters. Expect to hear covers from artists like Chris Stapleton\, Train\, GNR\, Willie Nelson\, Adele\, CCR\, and Dolly Parton\, alongside their originals.
URL:https://www.jomashillvineyard.com/event/live-music-with-andrea-lyn-2/
END:VEVENT
BEGIN:VEVENT
DTSTART;TZID=America/Chicago:20260531T140000
DTEND;TZID=America/Chicago:20260531T170000
DTSTAMP:20260421T053701
CREATED:20260320T174940Z
LAST-MODIFIED:20260320T174942Z
UID:2339-1780236000-1780246800@www.jomashillvineyard.com
SUMMARY:Live Music with Mathew Lease
DESCRIPTION:We are excited to have Mathew Lease back at Jomas Hill on May 31st from 2:00-5:00!Mathew has been playing gigs throughout the Minnesota area for the past 15 years.  He plays a variety of classic cover songs ranging from 50s/60s through today’s music including Eagles\, Beatles\, Sublime\, Jack Johnson and many more.
URL:https://www.jomashillvineyard.com/event/live-music-with-mathew-lease-6/
END:VEVENT
END:VCALENDAR