BEGIN:VCALENDAR
VERSION:2.0
PRODID:-//Jomas Hill Vineyard &amp; Winery - ECPv6.15.20//NONSGML v1.0//EN
CALSCALE:GREGORIAN
METHOD:PUBLISH
X-WR-CALNAME:Jomas Hill Vineyard &amp; Winery
X-ORIGINAL-URL:https://www.jomashillvineyard.com
X-WR-CALDESC:Events for Jomas Hill Vineyard &amp; Winery
REFRESH-INTERVAL;VALUE=DURATION:PT1H
X-Robots-Tag:noindex
X-PUBLISHED-TTL:PT1H
BEGIN:VTIMEZONE
TZID:America/Chicago
BEGIN:DAYLIGHT
TZOFFSETFROM:-0600
TZOFFSETTO:-0500
TZNAME:CDT
DTSTART:20230312T080000
END:DAYLIGHT
BEGIN:STANDARD
TZOFFSETFROM:-0500
TZOFFSETTO:-0600
TZNAME:CST
DTSTART:20231105T070000
END:STANDARD
BEGIN:DAYLIGHT
TZOFFSETFROM:-0600
TZOFFSETTO:-0500
TZNAME:CDT
DTSTART:20240310T080000
END:DAYLIGHT
BEGIN:STANDARD
TZOFFSETFROM:-0500
TZOFFSETTO:-0600
TZNAME:CST
DTSTART:20241103T070000
END:STANDARD
BEGIN:DAYLIGHT
TZOFFSETFROM:-0600
TZOFFSETTO:-0500
TZNAME:CDT
DTSTART:20250309T080000
END:DAYLIGHT
BEGIN:STANDARD
TZOFFSETFROM:-0500
TZOFFSETTO:-0600
TZNAME:CST
DTSTART:20251102T070000
END:STANDARD
END:VTIMEZONE
BEGIN:VEVENT
DTSTART;TZID=America/Chicago:20240921T080000
DTEND;TZID=America/Chicago:20240921T200000
DTSTAMP:20260419T101518
CREATED:20240917T144517Z
LAST-MODIFIED:20250128T011614Z
UID:1692-1726905600-1726948800@www.jomashillvineyard.com
SUMMARY:2024 Marquette Grape Harvest
DESCRIPTION:The Marquette grapes are ready to harvest! \n\n\n\nAll are welcome\, the only tool required is a scissors or pruners. Please bring your own water bottle – we will have ice water available. \n\n\n\nWe will be picking Saturday\, September 21st starting at 8:00am! \n\n\n\nCome when you can and leave when you need to! \n\n\n\nLunch & dinner will be provided. \n\n\n\nThanks for your continued support! \n\n\n\nWe will be harvesting the Petite Pearls in the upcoming weeks!
URL:https://www.jomashillvineyard.com/event/2024-marquette-grape-harvest/
END:VEVENT
BEGIN:VEVENT
DTSTART;TZID=America/Chicago:20240908T140000
DTEND;TZID=America/Chicago:20240908T160000
DTSTAMP:20260419T101518
CREATED:20240703T003017Z
LAST-MODIFIED:20250128T011559Z
UID:1517-1725804000-1725811200@www.jomashillvineyard.com
SUMMARY:Live music with Palomino Brothers
DESCRIPTION:Palomino Brothers write and perform original Americana music!
URL:https://www.jomashillvineyard.com/event/live-music-with-palomino-brothers-2/
END:VEVENT
BEGIN:VEVENT
DTSTART;TZID=America/Chicago:20240903T183000
DTEND;TZID=America/Chicago:20240903T193000
DTSTAMP:20260419T101518
CREATED:20240702T233559Z
LAST-MODIFIED:20250128T011628Z
UID:1516-1725388200-1725391800@www.jomashillvineyard.com
SUMMARY:Yoga
DESCRIPTION:Jomas Hill hosts yoga sessions in the vineyard\, provided by Open Sole Yoga. Sessions are on select Tuesday evenings from 6:30pm-7:30pm. The cost includes one glass of your favorite Jomas Hill wine following the yoga session.  \n\n\n\nPre-register online $20 \n\n\n\nWalk-in $25 cash only \n\n\n\nSeason Pass $225
URL:https://www.jomashillvineyard.com/event/yoga-10/
END:VEVENT
BEGIN:VEVENT
DTSTART;TZID=America/Chicago:20240827T183000
DTEND;TZID=America/Chicago:20240827T193000
DTSTAMP:20260419T101518
CREATED:20240702T233027Z
LAST-MODIFIED:20240703T132550Z
UID:1515-1724783400-1724787000@www.jomashillvineyard.com
SUMMARY:Yoga
DESCRIPTION:Jomas Hill hosts yoga sessions in the vineyard\, provided by Open Sole Yoga. Sessions are on select Tuesday evenings from 6:30pm-7:30pm. The cost includes one glass of your favorite Jomas Hill wine following the yoga session. \n\n\n\nPre-register online $20 \n\n\n\nWalk-in $25 cash only \n\n\n\nSeason Pass $225
URL:https://www.jomashillvineyard.com/event/yoga-9/
END:VEVENT
BEGIN:VEVENT
DTSTART;TZID=America/Chicago:20240826T170000
DTEND;TZID=America/Chicago:20240826T203000
DTSTAMP:20260419T101518
CREATED:20240801T190455Z
LAST-MODIFIED:20240801T190731Z
UID:1622-1724691600-1724704200@www.jomashillvineyard.com
SUMMARY:Nourish & Flourish Fundraiser: Cultivating a Healthy Community Together
DESCRIPTION:The Natural Food Co-op is planning an amazing evening at Jomas Hill Winery to raise funds for future growth of the Co-op! \n\n\n\nSince 1980\, the Natural Food Co-op has been providing the community with high quality products – prioritizing organic produce\, local meat\, non-GMO\, gluten free and dairy sensitive items. Our quaint storefront\, located in downtown Litchfield has served our members and customers well over the last few decades but as we continue to grow\, there is an obvious need for an expansion plan. This is a very exciting time for the Co-op and we’re asking for you to partner with us in cultivating a healthier community.  \n\n\n\nOur ultimate goal is a location change which would provide you with additional parking\, more floor space to hold a larger variety of products\, including more local vendors\, and a classroom for the opportunity to share additional knowledge with the community.  \n\n\n\nThe upfront costs of improvements and expansion are great! We hope to partner with our past\, present and future members to make this move a reality!
URL:https://www.jomashillvineyard.com/event/nourish-flourish-fundraiser-cultivating-a-healthy-community-together/
END:VEVENT
BEGIN:VEVENT
DTSTART;TZID=America/Chicago:20240820T183000
DTEND;TZID=America/Chicago:20240820T193000
DTSTAMP:20260419T101518
CREATED:20240702T232746Z
LAST-MODIFIED:20240703T132546Z
UID:1514-1724178600-1724182200@www.jomashillvineyard.com
SUMMARY:Yoga
DESCRIPTION:Jomas Hill hosts yoga sessions in the vineyard\, provided by Open Sole Yoga. Sessions are on select Tuesday evenings from 6:30pm-7:30pm. The cost includes one glass of your favorite Jomas Hill wine following the yoga session. \n\n\n\nPre-register online $20 \n\n\n\nWalk-in $25 cash only \n\n\n\nSeason Pass $225
URL:https://www.jomashillvineyard.com/event/yoga-8/
END:VEVENT
BEGIN:VEVENT
DTSTART;TZID=America/Chicago:20240818T150000
DTEND;TZID=America/Chicago:20240818T170000
DTSTAMP:20260419T101518
CREATED:20240702T231043Z
LAST-MODIFIED:20240703T132602Z
UID:1510-1723993200-1724000400@www.jomashillvineyard.com
SUMMARY:Live music with Mathew Lease
DESCRIPTION:Mathew has been playing gigs throughout the Minnesota area for the past 15 years.  He plays a variety of classic cover songs ranging from 50s/60s through today’s music including Eagles\, Beatles\, Sublime\, Jack Johnson and many more.
URL:https://www.jomashillvineyard.com/event/live-music-with-mathew-lease/
END:VEVENT
BEGIN:VEVENT
DTSTART;TZID=America/Chicago:20240813T183000
DTEND;TZID=America/Chicago:20240813T193000
DTSTAMP:20260419T101518
CREATED:20240702T232457Z
LAST-MODIFIED:20240703T132617Z
UID:1513-1723573800-1723577400@www.jomashillvineyard.com
SUMMARY:Yoga
DESCRIPTION:Jomas Hill hosts yoga sessions in the vineyard\, provided by Open Sole Yoga. Sessions are on select Tuesday evenings from 6:30pm-7:30pm. The cost includes one glass of your favorite Jomas Hill wine following the yoga session.  \n\n\n\nPre-register online $20 \n\n\n\nWalk-in $25 cash only \n\n\n\nSeason Pass $225
URL:https://www.jomashillvineyard.com/event/yoga-7/
END:VEVENT
BEGIN:VEVENT
DTSTART;TZID=America/Chicago:20240811T140000
DTEND;TZID=America/Chicago:20240811T160000
DTSTAMP:20260419T101518
CREATED:20240702T230053Z
LAST-MODIFIED:20240716T142743Z
UID:1507-1723384800-1723392000@www.jomashillvineyard.com
SUMMARY:Live music with Palomino Brothers
DESCRIPTION:Palomino Brothers write and perform original Americana music!
URL:https://www.jomashillvineyard.com/event/live-music-with-palomino-brothers/
END:VEVENT
BEGIN:VEVENT
DTSTART;TZID=America/Chicago:20240806T183000
DTEND;TZID=America/Chicago:20240806T193000
DTSTAMP:20260419T101518
CREATED:20240702T232058Z
LAST-MODIFIED:20240703T132625Z
UID:1512-1722969000-1722972600@www.jomashillvineyard.com
SUMMARY:Yoga
DESCRIPTION:Jomas Hill hosts yoga sessions in the vineyard\, provided by Open Sole Yoga. Sessions are on select Tuesday evenings from 6:30pm-7:30pm. The cost includes one glass of your favorite Jomas Hill wine following the yoga session.  \n\n\n\nPre-register online $20 \n\n\n\nWalk-in $25 cash only \n\n\n\nSeason Pass $225
URL:https://www.jomashillvineyard.com/event/yoga-6/
END:VEVENT
BEGIN:VEVENT
DTSTART;TZID=America/Chicago:20240730T183000
DTEND;TZID=America/Chicago:20240730T193000
DTSTAMP:20260419T101518
CREATED:20240702T221931Z
LAST-MODIFIED:20240703T132644Z
UID:1498-1722364200-1722367800@www.jomashillvineyard.com
SUMMARY:Yoga
DESCRIPTION:Jomas Hill hosts yoga sessions in the vineyard\, provided by Open Sole Yoga. Sessions are on select Tuesday evenings from 6:30pm-7:30pm. The cost includes one glass of your favorite Jomas Hill wine following the yoga session.  \n\n\n\nPre-register online $20 \n\n\n\nWalk-in $25 cash only \n\n\n\nSeason Pass $225
URL:https://www.jomashillvineyard.com/event/yoga-5/
END:VEVENT
BEGIN:VEVENT
DTSTART;TZID=America/Chicago:20240725T170000
DTEND;TZID=America/Chicago:20240725T190000
DTSTAMP:20260419T101518
CREATED:20240702T223543Z
LAST-MODIFIED:20240703T132647Z
UID:1502-1721926800-1721934000@www.jomashillvineyard.com
SUMMARY:Live music with Airborne Attraction
DESCRIPTION:Airborne Attraction put their own twist on hits old and new!
URL:https://www.jomashillvineyard.com/event/live-music-2/
END:VEVENT
BEGIN:VEVENT
DTSTART;TZID=America/Chicago:20240723T183000
DTEND;TZID=America/Chicago:20240723T193000
DTSTAMP:20260419T101518
CREATED:20240702T221541Z
LAST-MODIFIED:20240703T132651Z
UID:1497-1721759400-1721763000@www.jomashillvineyard.com
SUMMARY:Yoga
DESCRIPTION:Jomas Hill hosts yoga sessions in the vineyard\, provided by Open Sole Yoga. Sessions are on select Tuesday evenings from 6:30pm-7:30pm. The cost includes one glass of your favorite Jomas Hill wine following the yoga session.  \n\n\n\nPre-register online $20 \n\n\n\nWalk-in $25 cash only \n\n\n\nSeason Pass $225
URL:https://www.jomashillvineyard.com/event/yoga-4/
END:VEVENT
BEGIN:VEVENT
DTSTART;TZID=America/Chicago:20240720T180000
DTEND;TZID=America/Chicago:20240720T200000
DTSTAMP:20260419T101518
CREATED:20240628T155144Z
LAST-MODIFIED:20240703T132853Z
UID:1425-1721498400-1721505600@www.jomashillvineyard.com
SUMMARY:Much Ado About Nothing
DESCRIPTION:The FungusAmongus Players will be performing “Much Ado About Nothing”-No tickets needed for this show!
URL:https://www.jomashillvineyard.com/event/much-ado-about-nothing/
END:VEVENT
BEGIN:VEVENT
DTSTART;TZID=America/Chicago:20240718T173000
DTEND;TZID=America/Chicago:20240718T183000
DTSTAMP:20260419T101518
CREATED:20240702T223009Z
LAST-MODIFIED:20240703T132718Z
UID:1499-1721323800-1721327400@www.jomashillvineyard.com
SUMMARY:Meet the Author
DESCRIPTION:Meet the Author\, Mary Seifert-7 published novels in the Cozy Mystery Genre-Interactive conversation to learn about her publishing journey-There is no cost for this event
URL:https://www.jomashillvineyard.com/event/meet-the-author-mary-seifert/
END:VEVENT
BEGIN:VEVENT
DTSTART;TZID=America/Chicago:20240716T183000
DTEND;TZID=America/Chicago:20240716T193000
DTSTAMP:20260419T101518
CREATED:20240702T221253Z
LAST-MODIFIED:20240703T132737Z
UID:1496-1721154600-1721158200@www.jomashillvineyard.com
SUMMARY:Yoga
DESCRIPTION:Jomas Hill hosts yoga sessions in the vineyard\, provided by Open Sole Yoga. Sessions are on select Tuesday evenings from 6:30pm-7:30pm. The cost includes one glass of your favorite Jomas Hill wine following the yoga session. \n\n\n\nPre-register online $20 \n\n\n\nWalk-in $25 cash only \n\n\n\nSeason Pass $225
URL:https://www.jomashillvineyard.com/event/yoga-3/
END:VEVENT
BEGIN:VEVENT
DTSTART;TZID=America/Chicago:20240714T140000
DTEND;TZID=America/Chicago:20240714T160000
DTSTAMP:20260419T101518
CREATED:20240628T155442Z
LAST-MODIFIED:20240716T142600Z
UID:1426-1720965600-1720972800@www.jomashillvineyard.com
SUMMARY:Live Music with Palomino Brothers
DESCRIPTION:Palomino Brothers write and perform original Americana music!
URL:https://www.jomashillvineyard.com/event/1426/
END:VEVENT
BEGIN:VEVENT
DTSTART;TZID=America/Chicago:20240709T183000
DTEND;TZID=America/Chicago:20240709T193000
DTSTAMP:20260419T101518
CREATED:20240702T220619Z
LAST-MODIFIED:20240703T132748Z
UID:1495-1720549800-1720553400@www.jomashillvineyard.com
SUMMARY:Yoga
DESCRIPTION:Jomas Hill hosts yoga sessions in the vineyard\, provided by Open Sole Yoga. Sessions are on select Tuesday evenings from 6:30pm-7:30pm. The cost includes one glass of your favorite Jomas Hill wine following the yoga session. \n\n\n\nPre-register online $20 \n\n\n\nWalk-in $25 cash only \n\n\n\nSeason Pass $225
URL:https://www.jomashillvineyard.com/event/yoga-2/
END:VEVENT
BEGIN:VEVENT
DTSTART;TZID=America/Chicago:20240707T140000
DTEND;TZID=America/Chicago:20240707T160000
DTSTAMP:20260419T101518
CREATED:20240702T225050Z
LAST-MODIFIED:20240703T132809Z
UID:1503-1720360800-1720368000@www.jomashillvineyard.com
SUMMARY:Live music with Hans & Hannah
DESCRIPTION:Hans has spent the past 25 years recording\, playing guitar and piano\, and getting people singing with Dakota Road Music\, a grassroots performance/ publishing company.  \n\n\n\nHannah graduated from UW-River Falls with a Bachelor of Science degree in Music Performance. While living in Minneapolis\, Hannah sang with Luna and the Sunbrothers\, a jazz and blues band\, and the Riverside All-Stars. 
URL:https://www.jomashillvineyard.com/event/live-music-with-hans-hannah/
END:VEVENT
BEGIN:VEVENT
DTSTART;TZID=America/Chicago:20240702T183000
DTEND;TZID=America/Chicago:20240702T193000
DTSTAMP:20260419T101519
CREATED:20240627T160810Z
LAST-MODIFIED:20240703T132819Z
UID:1373-1719945000-1719948600@www.jomashillvineyard.com
SUMMARY:Yoga
DESCRIPTION:Jomas Hill hosts yoga sessions in the vineyard\, provided by Open Sole Yoga. Sessions are on select Tuesday evenings from 6:30pm-7:30pm. The cost includes one glass of your favorite Jomas Hill wine following the yoga session. \n\n\n\nPre-register Online: $20 \n\n\n\nWalk-in: $25 (cash only) \n\n\n\nSeason Pass: $225 \n\n\n\n\nRegister Here
URL:https://www.jomashillvineyard.com/event/yoga/
ATTACH;FMTTYPE=image/jpeg:https://www.jomashillvineyard.com/wp-content/uploads/2022/08/06B3403D-AC7C-4DFB-BF86-0BF27690907E.jpeg
END:VEVENT
END:VCALENDAR