BEGIN:VCALENDAR
VERSION:2.0
PRODID:-//Jomas Hill Vineyard &amp; Winery - ECPv6.15.20//NONSGML v1.0//EN
CALSCALE:GREGORIAN
METHOD:PUBLISH
X-WR-CALNAME:Jomas Hill Vineyard &amp; Winery
X-ORIGINAL-URL:https://www.jomashillvineyard.com
X-WR-CALDESC:Events for Jomas Hill Vineyard &amp; Winery
REFRESH-INTERVAL;VALUE=DURATION:PT1H
X-Robots-Tag:noindex
X-PUBLISHED-TTL:PT1H
BEGIN:VTIMEZONE
TZID:America/Chicago
BEGIN:DAYLIGHT
TZOFFSETFROM:-0600
TZOFFSETTO:-0500
TZNAME:CDT
DTSTART:20250309T080000
END:DAYLIGHT
BEGIN:STANDARD
TZOFFSETFROM:-0500
TZOFFSETTO:-0600
TZNAME:CST
DTSTART:20251102T070000
END:STANDARD
BEGIN:DAYLIGHT
TZOFFSETFROM:-0600
TZOFFSETTO:-0500
TZNAME:CDT
DTSTART:20260308T080000
END:DAYLIGHT
BEGIN:STANDARD
TZOFFSETFROM:-0500
TZOFFSETTO:-0600
TZNAME:CST
DTSTART:20261101T070000
END:STANDARD
BEGIN:DAYLIGHT
TZOFFSETFROM:-0600
TZOFFSETTO:-0500
TZNAME:CDT
DTSTART:20270314T080000
END:DAYLIGHT
BEGIN:STANDARD
TZOFFSETFROM:-0500
TZOFFSETTO:-0600
TZNAME:CST
DTSTART:20271107T070000
END:STANDARD
END:VTIMEZONE
BEGIN:VEVENT
DTSTART;TZID=America/Chicago:20260920T140000
DTEND;TZID=America/Chicago:20260920T170000
DTSTAMP:20260421T141304
CREATED:20260409T162404Z
LAST-MODIFIED:20260409T162806Z
UID:2375-1789912800-1789923600@www.jomashillvineyard.com
SUMMARY:Live Music with Matt Jennings
DESCRIPTION:We are excited to have guitarist-songwriter\, Matt Jennings\, bassist\, Dan Carpel and drummer Chresten Hyde at Jomas Hill on September 20th!Matt grew up in Pittsburgh mimicking hard rock guitarists and honing his songwriting skills from an early age. After moving to Minneapolis for college\, he studied abroad in Mexico and later taught English in China. In Mexico\, he was entranced by the sound of mariachi trumpeters and violinists practicing on the streets. And he learned the basic techniques of mariachi guitar firsthand from a man named Nacho. In China\, he played in a live karaoke band and a Chinese hard rock band\, while spending countless hours watching the South China Sea out his apartment window with a $20 Kapok acoustic guitar in his hands. After soaking in how these different cultures use rhythm and melody\, he transformed his hard rock and folk roots into an international style of music that incorporates elements of flamenco\, reggae\, surf\, mariachi\, samba\, bachata\, tango\, jazz\, and metal\, among many other influences. ​
URL:https://www.jomashillvineyard.com/event/live-music-with-matt-jennings-5/
END:VEVENT
END:VCALENDAR