BEGIN:VCALENDAR
VERSION:2.0
PRODID:-//Jomas Hill Vineyard &amp; Winery - ECPv6.15.20//NONSGML v1.0//EN
CALSCALE:GREGORIAN
METHOD:PUBLISH
X-WR-CALNAME:Jomas Hill Vineyard &amp; Winery
X-ORIGINAL-URL:https://www.jomashillvineyard.com
X-WR-CALDESC:Events for Jomas Hill Vineyard &amp; Winery
REFRESH-INTERVAL;VALUE=DURATION:PT1H
X-Robots-Tag:noindex
X-PUBLISHED-TTL:PT1H
BEGIN:VTIMEZONE
TZID:America/Chicago
BEGIN:DAYLIGHT
TZOFFSETFROM:-0600
TZOFFSETTO:-0500
TZNAME:CDT
DTSTART:20250309T080000
END:DAYLIGHT
BEGIN:STANDARD
TZOFFSETFROM:-0500
TZOFFSETTO:-0600
TZNAME:CST
DTSTART:20251102T070000
END:STANDARD
BEGIN:DAYLIGHT
TZOFFSETFROM:-0600
TZOFFSETTO:-0500
TZNAME:CDT
DTSTART:20260308T080000
END:DAYLIGHT
BEGIN:STANDARD
TZOFFSETFROM:-0500
TZOFFSETTO:-0600
TZNAME:CST
DTSTART:20261101T070000
END:STANDARD
BEGIN:DAYLIGHT
TZOFFSETFROM:-0600
TZOFFSETTO:-0500
TZNAME:CDT
DTSTART:20270314T080000
END:DAYLIGHT
BEGIN:STANDARD
TZOFFSETFROM:-0500
TZOFFSETTO:-0600
TZNAME:CST
DTSTART:20271107T070000
END:STANDARD
END:VTIMEZONE
BEGIN:VEVENT
DTSTART;TZID=America/Chicago:20260809T140000
DTEND;TZID=America/Chicago:20260809T170000
DTSTAMP:20260425T092649
CREATED:20260223T185356Z
LAST-MODIFIED:20260223T185358Z
UID:2293-1786284000-1786294800@www.jomashillvineyard.com
SUMMARY:Live Music with Traveled Ground
DESCRIPTION:We are excited to have the Father & Son acoustic duo back at Jomas Hill on August 9th!Offering a unique combination of the Americana sound from Folk\, Blues\, Jazz and Roots Rock\, Traveled Ground’s music crosses the spectrum of the Roots Music scene. Hailing out of Waconia Minnesota\, this group has kept a busy schedule playing local\, regional and national stages for over 34 years. Led by multi- instrumentalist Clark Machtemes\, their brand of story driven songs\, sense of song craft and arsenal of instruments have led to national radio play\, commercial jingles and songwriter showcases across the country. Traveled Ground plays as a full band and at times as an acoustic duo and trio. Traveled Ground has released seven full length albums. Their music is available on all major streaming sites and at live shows. They are a group that continues to evolve but yet remain grounded in American Roots Music.
URL:https://www.jomashillvineyard.com/event/live-music-with-traveled-ground-3/
END:VEVENT
END:VCALENDAR