BEGIN:VCALENDAR
VERSION:2.0
PRODID:-//Jomas Hill Vineyard &amp; Winery - ECPv6.15.20//NONSGML v1.0//EN
CALSCALE:GREGORIAN
METHOD:PUBLISH
X-WR-CALNAME:Jomas Hill Vineyard &amp; Winery
X-ORIGINAL-URL:https://www.jomashillvineyard.com
X-WR-CALDESC:Events for Jomas Hill Vineyard &amp; Winery
REFRESH-INTERVAL;VALUE=DURATION:PT1H
X-Robots-Tag:noindex
X-PUBLISHED-TTL:PT1H
BEGIN:VTIMEZONE
TZID:America/Chicago
BEGIN:DAYLIGHT
TZOFFSETFROM:-0600
TZOFFSETTO:-0500
TZNAME:CDT
DTSTART:20250309T080000
END:DAYLIGHT
BEGIN:STANDARD
TZOFFSETFROM:-0500
TZOFFSETTO:-0600
TZNAME:CST
DTSTART:20251102T070000
END:STANDARD
BEGIN:DAYLIGHT
TZOFFSETFROM:-0600
TZOFFSETTO:-0500
TZNAME:CDT
DTSTART:20260308T080000
END:DAYLIGHT
BEGIN:STANDARD
TZOFFSETFROM:-0500
TZOFFSETTO:-0600
TZNAME:CST
DTSTART:20261101T070000
END:STANDARD
BEGIN:DAYLIGHT
TZOFFSETFROM:-0600
TZOFFSETTO:-0500
TZNAME:CDT
DTSTART:20270314T080000
END:DAYLIGHT
BEGIN:STANDARD
TZOFFSETFROM:-0500
TZOFFSETTO:-0600
TZNAME:CST
DTSTART:20271107T070000
END:STANDARD
END:VTIMEZONE
BEGIN:VEVENT
DTSTART;TZID=America/Chicago:20260517T140000
DTEND;TZID=America/Chicago:20260517T170000
DTSTAMP:20260421T065405
CREATED:20260320T174402Z
LAST-MODIFIED:20260320T174403Z
UID:2336-1779026400-1779037200@www.jomashillvineyard.com
SUMMARY:Live Music with Charlie Roth
DESCRIPTION:We are excited to have Charlie Roth back at Jomas Hill on May 17th from 2:00-5:00! \n\n\n\nCharlie has been singing\, playing guitar & harmonica for over 40 years with a unique blend of Americana\, Folk\, Blues\, Country & Celtic genres.
URL:https://www.jomashillvineyard.com/event/live-music-with-charlie-roth-7/
END:VEVENT
END:VCALENDAR