BEGIN:VCALENDAR
VERSION:2.0
PRODID:-//Jomas Hill Vineyard &amp; Winery - ECPv6.15.20//NONSGML v1.0//EN
CALSCALE:GREGORIAN
METHOD:PUBLISH
X-WR-CALNAME:Jomas Hill Vineyard &amp; Winery
X-ORIGINAL-URL:https://www.jomashillvineyard.com
X-WR-CALDESC:Events for Jomas Hill Vineyard &amp; Winery
REFRESH-INTERVAL;VALUE=DURATION:PT1H
X-Robots-Tag:noindex
X-PUBLISHED-TTL:PT1H
BEGIN:VTIMEZONE
TZID:America/Chicago
BEGIN:DAYLIGHT
TZOFFSETFROM:-0600
TZOFFSETTO:-0500
TZNAME:CDT
DTSTART:20250309T080000
END:DAYLIGHT
BEGIN:STANDARD
TZOFFSETFROM:-0500
TZOFFSETTO:-0600
TZNAME:CST
DTSTART:20251102T070000
END:STANDARD
BEGIN:DAYLIGHT
TZOFFSETFROM:-0600
TZOFFSETTO:-0500
TZNAME:CDT
DTSTART:20260308T080000
END:DAYLIGHT
BEGIN:STANDARD
TZOFFSETFROM:-0500
TZOFFSETTO:-0600
TZNAME:CST
DTSTART:20261101T070000
END:STANDARD
BEGIN:DAYLIGHT
TZOFFSETFROM:-0600
TZOFFSETTO:-0500
TZNAME:CDT
DTSTART:20270314T080000
END:DAYLIGHT
BEGIN:STANDARD
TZOFFSETFROM:-0500
TZOFFSETTO:-0600
TZNAME:CST
DTSTART:20271107T070000
END:STANDARD
END:VTIMEZONE
BEGIN:VEVENT
DTSTART;TZID=America/Chicago:20260509T100000
DTEND;TZID=America/Chicago:20260509T113000
DTSTAMP:20260421T043108
CREATED:20260416T153334Z
LAST-MODIFIED:20260416T153336Z
UID:2385-1778320800-1778326200@www.jomashillvineyard.com
SUMMARY:Mother's Day Weekend Wine & Cheese Pairing
DESCRIPTION:Join us alongside Co-owner & head cheese maker\, Alise Sjostrom of Redhead Creamery\, for a celebration of perfectly paired flavors on May 9th from 10:00-11:30. \n\n\n\nEnjoy a curated sampling of handcrafted farmstead cheeses\, thoughtfully paired with select Jomas Hill wines\, while learning about the art and craft behind both cheese and winemaking. \n\n\n\nWhether you’re toasting Mom\, Grandma\, or just enjoying a well deserved morning out\, this is your excuse to relax and indulge a little.Stick around for lunch and enjoy delicious deals! \n\n\n\n*Buy one pizza get the 2nd pizza 25% off! \n\n\n\n*Buy 1 bottle of wine\, get the 2nd bottle 50% off!
URL:https://www.jomashillvineyard.com/event/mothers-day-weekend-wine-cheese-pairing/
END:VEVENT
END:VCALENDAR