BEGIN:VCALENDAR
VERSION:2.0
PRODID:-//Jomas Hill Vineyard &amp; Winery - ECPv6.15.20//NONSGML v1.0//EN
CALSCALE:GREGORIAN
METHOD:PUBLISH
X-ORIGINAL-URL:https://www.jomashillvineyard.com
X-WR-CALDESC:Events for Jomas Hill Vineyard &amp; Winery
REFRESH-INTERVAL;VALUE=DURATION:PT1H
X-Robots-Tag:noindex
X-PUBLISHED-TTL:PT1H
BEGIN:VTIMEZONE
TZID:America/Chicago
BEGIN:DAYLIGHT
TZOFFSETFROM:-0600
TZOFFSETTO:-0500
TZNAME:CDT
DTSTART:20250309T080000
END:DAYLIGHT
BEGIN:STANDARD
TZOFFSETFROM:-0500
TZOFFSETTO:-0600
TZNAME:CST
DTSTART:20251102T070000
END:STANDARD
BEGIN:DAYLIGHT
TZOFFSETFROM:-0600
TZOFFSETTO:-0500
TZNAME:CDT
DTSTART:20260308T080000
END:DAYLIGHT
BEGIN:STANDARD
TZOFFSETFROM:-0500
TZOFFSETTO:-0600
TZNAME:CST
DTSTART:20261101T070000
END:STANDARD
BEGIN:DAYLIGHT
TZOFFSETFROM:-0600
TZOFFSETTO:-0500
TZNAME:CDT
DTSTART:20270314T080000
END:DAYLIGHT
BEGIN:STANDARD
TZOFFSETFROM:-0500
TZOFFSETTO:-0600
TZNAME:CST
DTSTART:20271107T070000
END:STANDARD
END:VTIMEZONE
BEGIN:VEVENT
DTSTART;TZID=America/Chicago:20260411T173000
DTEND;TZID=America/Chicago:20260411T213000
DTSTAMP:20260421T071000
CREATED:20260320T170003Z
LAST-MODIFIED:20260320T170006Z
UID:2333-1775928600-1775943000@www.jomashillvineyard.com
SUMMARY:2026 Dancing Like the Stars Watch Party!
DESCRIPTION:Join us for the the Official LIVESTREAM Watch Party to cheer on Cokato couple\, Trevor & Amanda Berg\, as they compete for the Mirrorball trophy!Dancing Like the Stars is a live production show featuring 12 STAR Couples from Brown\, Carver\, McLeod\, Meeker\, Nicollet\, Renville\, Sibley\, and Wright Counties. Each couple is competing to raise funds for 2B CONTINUED\, a Glencoe-based nonprofit dedicated to suicide prevention and mental health awareness. Tickets: $30 each – Must purchase by 4/5/26 \n\n\n\nTicket Includes: \n\n\n\n\nLivestream Viewing of the Show\n\n\n\nCharcuterie Grazing Table (5:30-7:30pm)\n\n\n\nAll You Can Eat Pizza Buffet (served from 6:00-7:30pm)\n\n\n\nBeverages available for additional cost
URL:https://www.jomashillvineyard.com/event/2026-dancing-like-the-stars-watch-party/
END:VEVENT
END:VCALENDAR